BEGIN:VCALENDAR
VERSION:2.0
PRODID:-//Diabetes Foundation - ECPv6.15.20//NONSGML v1.0//EN
CALSCALE:GREGORIAN
METHOD:PUBLISH
X-ORIGINAL-URL:https://diabetesfoundationinc.org
X-WR-CALDESC:Events for Diabetes Foundation
REFRESH-INTERVAL;VALUE=DURATION:PT1H
X-Robots-Tag:noindex
X-PUBLISHED-TTL:PT1H
BEGIN:VTIMEZONE
TZID:America/New_York
BEGIN:DAYLIGHT
TZOFFSETFROM:-0500
TZOFFSETTO:-0400
TZNAME:EDT
DTSTART:20250309T070000
END:DAYLIGHT
BEGIN:STANDARD
TZOFFSETFROM:-0400
TZOFFSETTO:-0500
TZNAME:EST
DTSTART:20251102T060000
END:STANDARD
BEGIN:DAYLIGHT
TZOFFSETFROM:-0500
TZOFFSETTO:-0400
TZNAME:EDT
DTSTART:20260308T070000
END:DAYLIGHT
BEGIN:STANDARD
TZOFFSETFROM:-0400
TZOFFSETTO:-0500
TZNAME:EST
DTSTART:20261101T060000
END:STANDARD
BEGIN:DAYLIGHT
TZOFFSETFROM:-0500
TZOFFSETTO:-0400
TZNAME:EDT
DTSTART:20270314T070000
END:DAYLIGHT
BEGIN:STANDARD
TZOFFSETFROM:-0400
TZOFFSETTO:-0500
TZNAME:EST
DTSTART:20271107T060000
END:STANDARD
END:VTIMEZONE
BEGIN:VEVENT
DTSTART;TZID=America/New_York:20260801T090000
DTEND;TZID=America/New_York:20260801T120000
DTSTAMP:20260422T213754
CREATED:20241023T203906Z
LAST-MODIFIED:20260324T184507Z
UID:10000368-1785574800-1785585600@diabetesfoundationinc.org
SUMMARY:Diabetes Health Fair Bootcamp- Ironbound
DESCRIPTION:Join the Diabetes Foundation at our Diabetes Bootcamp with Ironbound! \nCome to the event for \n\nA1C Tests\nBlood Pressure Tests\nVision Tests\nHealthy Eating Education\nSocial Support Help\nFree Resources and Giveaway\n\nReasons to get your A1C: \n\nIdentify Risk\nTrack Progress\nReduce Diabetes Complications\n\nJoin in person on August 1\, 2026\, from 9:00am-12:00pm at \n317 Elm Street Newark\, NJ 07105 \nClick here to volunteer for this event: https://diabetesfoundationinc.org/volunteer-opportunity/spring-into-health/ \nFor more information contact us today at (201)444-0337 or email info@diabetesfoundationinc.org
URL:https://diabetesfoundationinc.org/event/diabetes-bootcamp-ironbound-2/
CATEGORIES:Special Events
END:VEVENT
END:VCALENDAR