BEGIN:VCALENDAR
VERSION:2.0
PRODID:-//Diabetes Foundation - ECPv6.15.20//NONSGML v1.0//EN
CALSCALE:GREGORIAN
METHOD:PUBLISH
X-ORIGINAL-URL:https://diabetesfoundationinc.org
X-WR-CALDESC:Events for Diabetes Foundation
REFRESH-INTERVAL;VALUE=DURATION:PT1H
X-Robots-Tag:noindex
X-PUBLISHED-TTL:PT1H
BEGIN:VTIMEZONE
TZID:America/New_York
BEGIN:DAYLIGHT
TZOFFSETFROM:-0500
TZOFFSETTO:-0400
TZNAME:EDT
DTSTART:20240310T070000
END:DAYLIGHT
BEGIN:STANDARD
TZOFFSETFROM:-0400
TZOFFSETTO:-0500
TZNAME:EST
DTSTART:20241103T060000
END:STANDARD
BEGIN:DAYLIGHT
TZOFFSETFROM:-0500
TZOFFSETTO:-0400
TZNAME:EDT
DTSTART:20250309T070000
END:DAYLIGHT
BEGIN:STANDARD
TZOFFSETFROM:-0400
TZOFFSETTO:-0500
TZNAME:EST
DTSTART:20251102T060000
END:STANDARD
BEGIN:DAYLIGHT
TZOFFSETFROM:-0500
TZOFFSETTO:-0400
TZNAME:EDT
DTSTART:20260308T070000
END:DAYLIGHT
BEGIN:STANDARD
TZOFFSETFROM:-0400
TZOFFSETTO:-0500
TZNAME:EST
DTSTART:20261101T060000
END:STANDARD
END:VTIMEZONE
BEGIN:VEVENT
DTSTART;TZID=America/New_York:20251202T100000
DTEND;TZID=America/New_York:20251202T110000
DTSTAMP:20260422T232516
CREATED:20251121T205255Z
LAST-MODIFIED:20251121T205255Z
UID:10000554-1764669600-1764673200@diabetesfoundationinc.org
SUMMARY:Tax-Efficient Charitable Giving Strategies Workshop
DESCRIPTION:Join Diabetes Foundation and King Financial Network on Tuesday\, December 2\, 2025\, @ 10:00 a.m. to learn practical ways to:\n\n\n· Maximize the tax benefits of your charitable contributions \n\n· Understand the advantages of donor-advised funds (DAFs)\, qualified charitable distributions (QCDs)\, and appreciated stock gifts \n\n· Incorporate philanthropy into your long-term financial plan\n\n\nRegister by clicking here: Tax-Efficient Charitable Giving Strategies – Demio
URL:https://diabetesfoundationinc.org/event/charitablegiving-strategies-workshop/
CATEGORIES:Education,Special Events
ATTACH;FMTTYPE=image/png:https://diabetesfoundationinc.org/wp-content/uploads/2025/11/Screenshot-2025-11-21-124132.png
END:VEVENT
BEGIN:VEVENT
DTSTART;TZID=America/New_York:20251106T120000
DTEND;TZID=America/New_York:20251106T130000
DTSTAMP:20260422T232516
CREATED:20251006T151451Z
LAST-MODIFIED:20251006T151451Z
UID:10000543-1762430400-1762434000@diabetesfoundationinc.org
SUMMARY:Diabetes and Oral Health with Delta Dental
DESCRIPTION:Join Diabetes Foundation (DF) and Delta Dental for a special Facebook Live event:\n“Diabetes and Oral Health”\n\nDid you know that diabetes and oral health are closely connected? This interactive session will explore how what happens in your mouth can impact your overall health—and how smart daily choices can make a difference.\n\nFeatured Presenters: Danielle Kennedy\, CDCES\, RD Keith Libou\, DMD\n\nWhat you’ll learn: How diabetes and oral health intersect How foods and drinks can support both oral health and diabetes prevention Tangible tips you can use every day for better care\nDon’t miss this opportunity to gain expert insights and ask your questions live!\n\nRegister by marking “I’m Going” on Facebook here: https://www.facebook.com/share/1CzS5qBk7Y/
URL:https://diabetesfoundationinc.org/event/diabetes-and-oral-health-with-delta-dental/
CATEGORIES:Education,Special Events
ATTACH;FMTTYPE=image/png:https://diabetesfoundationinc.org/wp-content/uploads/2025/10/Fuel-Your-Future-Invitation-Square.png
END:VEVENT
BEGIN:VEVENT
DTSTART;TZID=America/New_York:20251004T110000
DTEND;TZID=America/New_York:20251004T140000
DTSTAMP:20260422T232516
CREATED:20241023T202600Z
LAST-MODIFIED:20250923T150409Z
UID:10000367-1759575600-1759586400@diabetesfoundationinc.org
SUMMARY:Diabetes Bootcamp Ironbound
DESCRIPTION:[vc_row][vc_column][vc_column_text css=””]Join DF at Ironbound! \nCome to the event for \n\nA1C Tests\nHealthy Eating Education\nFree Resources and Giveaways\n\nReasons to get your A1C: \n\nIdentify Risk\nTrack Progress\nReduce Diabetes Complications\n\nJoin in person on October 4\, 2025\, from 11:00am-2pm at Ironbound Community Corporation at 432 Lafayette Street\, Newark\, NJ    \n  \nTo volunteer for this event\, click here: https://diabetesfoundationinc.org/volunteer-opportunity/diabetesbootcamp/ \nFor more information contact us today at (201)444-0337 or email info@diabetesfoundationinc.org[/vc_column_text][/vc_column][/vc_row]
URL:https://diabetesfoundationinc.org/event/diabetesbootcampessexcounty/
CATEGORIES:Special Events
ATTACH;FMTTYPE=image/png:https://diabetesfoundationinc.org/wp-content/uploads/2024/11/Copy-of-Copy-of-new-bootcamp-flyer-Facebook-Post-1.png
END:VEVENT
BEGIN:VEVENT
DTSTART;TZID=America/New_York:20250713T090000
DTEND;TZID=America/New_York:20250713T140000
DTSTAMP:20260422T232516
CREATED:20250501T162910Z
LAST-MODIFIED:20250624T161003Z
UID:10000481-1752397200-1752415200@diabetesfoundationinc.org
SUMMARY:Diabetes Bootcamp with the Essex County Health Department
DESCRIPTION:Join DF at the Diabetes Bootcamp with the Essex County Health Department! \nCome to the event for \n\nA1C Tests\nBlood Pressure Tests\nVision Tests\nHealthy Eating Education\nSocial Support Help\nFree Resources and Giveaway\n\nReasons to get your A1C: \n\nIdentify Risk\nTrack Progress\nReduce Diabetes Complications\n\nJoin in person on July 13\, 2025\, from 9:00am-2pm at \nBilal Beasley Community Center\,654 Lyons Avenue\, Irvington\, New Jersey\, 07111 \nFor more information contact us today at (201)444-0337 or email info@diabetesfoundationinc.org \nTo volunteer for this event\, click here: https://diabetesfoundationinc.org/volunteer-opportunity/diabetes-bootcamp/
URL:https://diabetesfoundationinc.org/event/diabetes-bootcamp/
CATEGORIES:Special Events
ATTACH;FMTTYPE=image/png:https://diabetesfoundationinc.org/wp-content/uploads/2025/05/Untitled-design-28.png
END:VEVENT
BEGIN:VEVENT
DTSTART;TZID=America/New_York:20250621T090000
DTEND;TZID=America/New_York:20250621T113000
DTSTAMP:20260422T232516
CREATED:20250416T141309Z
LAST-MODIFIED:20250416T141726Z
UID:10000454-1750496400-1750505400@diabetesfoundationinc.org
SUMMARY:RWJ A1C Screenings
DESCRIPTION:Join DF at RWJ for an A1C Screening! \nReasons to get your A1C: \n\nIdentify Risk\nTrack Progress\nReduce Diabetes Complications\n\nJoin in person on Sat\, June 21\, 2025 from 9:00 am – 11:30am \nWhere: RWJ Fitness & Wellness Center\, 100 Kirkpatrick St #201\, New Brunswick\, NJ 08901  \nClick here to volunteer for this event: RWJ A1C Screenings – Diabetes Foundation \nFor more information contact us today at (201)444-0337 or email info@diabetesfoundationinc.org
URL:https://diabetesfoundationinc.org/event/a1cscreenings/
CATEGORIES:Special Events
END:VEVENT
BEGIN:VEVENT
DTSTART;TZID=America/New_York:20250426T110000
DTEND;TZID=America/New_York:20250426T140000
DTSTAMP:20260422T232516
CREATED:20241023T140105Z
LAST-MODIFIED:20250313T161923Z
UID:10000365-1745665200-1745676000@diabetesfoundationinc.org
SUMMARY:Spring Into Health- Capital YMCA
DESCRIPTION:Join DF at Spring Into Health! \nCome to the event for \n\nA1C Tests\nBlood Pressure Tests\nVision Tests\nHealthy Eating Education\nSocial Support Help\nFree Resources and Giveaway\n\nReasons to get your A1C: \n\nIdentify Risk\nTrack Progress\nReduce Diabetes Complications\n\nJoin in person on April 26\, 2025\, from 11:00am – 2:00pm at \nCAPITAL AREA YMCA \n431 Pennington Ave\, Trenton\, NJ 08618 \nTo volunteer for this event\, click here: Spring Into Health – Diabetes Foundation \nFor more information contact us today at (201)444-0337 or email info@diabetesfoundationinc.org
URL:https://diabetesfoundationinc.org/event/spring-into-health-capital-ymca/
CATEGORIES:Special Events
ATTACH;FMTTYPE=application/pdf:https://diabetesfoundationinc.org/wp-content/uploads/2024/10/April-26-Bootcamp-Flyer-1.pdf
END:VEVENT
END:VCALENDAR