BEGIN:VCALENDAR
VERSION:2.0
PRODID:-//Diabetes Foundation - ECPv6.15.20//NONSGML v1.0//EN
CALSCALE:GREGORIAN
METHOD:PUBLISH
X-ORIGINAL-URL:https://diabetesfoundationinc.org
X-WR-CALDESC:Events for Diabetes Foundation
REFRESH-INTERVAL;VALUE=DURATION:PT1H
X-Robots-Tag:noindex
X-PUBLISHED-TTL:PT1H
BEGIN:VTIMEZONE
TZID:America/New_York
BEGIN:DAYLIGHT
TZOFFSETFROM:-0500
TZOFFSETTO:-0400
TZNAME:EDT
DTSTART:20240310T070000
END:DAYLIGHT
BEGIN:STANDARD
TZOFFSETFROM:-0400
TZOFFSETTO:-0500
TZNAME:EST
DTSTART:20241103T060000
END:STANDARD
BEGIN:DAYLIGHT
TZOFFSETFROM:-0500
TZOFFSETTO:-0400
TZNAME:EDT
DTSTART:20250309T070000
END:DAYLIGHT
BEGIN:STANDARD
TZOFFSETFROM:-0400
TZOFFSETTO:-0500
TZNAME:EST
DTSTART:20251102T060000
END:STANDARD
BEGIN:DAYLIGHT
TZOFFSETFROM:-0500
TZOFFSETTO:-0400
TZNAME:EDT
DTSTART:20260308T070000
END:DAYLIGHT
BEGIN:STANDARD
TZOFFSETFROM:-0400
TZOFFSETTO:-0500
TZNAME:EST
DTSTART:20261101T060000
END:STANDARD
END:VTIMEZONE
BEGIN:VEVENT
DTSTART;TZID=America/New_York:20250713T090000
DTEND;TZID=America/New_York:20250713T140000
DTSTAMP:20260423T140037
CREATED:20250501T162910Z
LAST-MODIFIED:20250624T161003Z
UID:10000481-1752397200-1752415200@diabetesfoundationinc.org
SUMMARY:Diabetes Bootcamp with the Essex County Health Department
DESCRIPTION:Join DF at the Diabetes Bootcamp with the Essex County Health Department! \nCome to the event for \n\nA1C Tests\nBlood Pressure Tests\nVision Tests\nHealthy Eating Education\nSocial Support Help\nFree Resources and Giveaway\n\nReasons to get your A1C: \n\nIdentify Risk\nTrack Progress\nReduce Diabetes Complications\n\nJoin in person on July 13\, 2025\, from 9:00am-2pm at \nBilal Beasley Community Center\,654 Lyons Avenue\, Irvington\, New Jersey\, 07111 \nFor more information contact us today at (201)444-0337 or email info@diabetesfoundationinc.org \nTo volunteer for this event\, click here: https://diabetesfoundationinc.org/volunteer-opportunity/diabetes-bootcamp/
URL:https://diabetesfoundationinc.org/event/diabetes-bootcamp/
CATEGORIES:Special Events
ATTACH;FMTTYPE=image/png:https://diabetesfoundationinc.org/wp-content/uploads/2025/05/Untitled-design-28.png
END:VEVENT
END:VCALENDAR