BEGIN:VCALENDAR
VERSION:2.0
PRODID:-//Diabetes Foundation - ECPv6.15.20//NONSGML v1.0//EN
CALSCALE:GREGORIAN
METHOD:PUBLISH
X-WR-CALNAME:Diabetes Foundation
X-ORIGINAL-URL:https://diabetesfoundationinc.org
X-WR-CALDESC:Events for Diabetes Foundation
REFRESH-INTERVAL;VALUE=DURATION:PT1H
X-Robots-Tag:noindex
X-PUBLISHED-TTL:PT1H
BEGIN:VTIMEZONE
TZID:America/New_York
BEGIN:DAYLIGHT
TZOFFSETFROM:-0500
TZOFFSETTO:-0400
TZNAME:EDT
DTSTART:20240310T070000
END:DAYLIGHT
BEGIN:STANDARD
TZOFFSETFROM:-0400
TZOFFSETTO:-0500
TZNAME:EST
DTSTART:20241103T060000
END:STANDARD
BEGIN:DAYLIGHT
TZOFFSETFROM:-0500
TZOFFSETTO:-0400
TZNAME:EDT
DTSTART:20250309T070000
END:DAYLIGHT
BEGIN:STANDARD
TZOFFSETFROM:-0400
TZOFFSETTO:-0500
TZNAME:EST
DTSTART:20251102T060000
END:STANDARD
BEGIN:DAYLIGHT
TZOFFSETFROM:-0500
TZOFFSETTO:-0400
TZNAME:EDT
DTSTART:20260308T070000
END:DAYLIGHT
BEGIN:STANDARD
TZOFFSETFROM:-0400
TZOFFSETTO:-0500
TZNAME:EST
DTSTART:20261101T060000
END:STANDARD
END:VTIMEZONE
BEGIN:VEVENT
DTSTART;TZID=America/New_York:20250426T110000
DTEND;TZID=America/New_York:20250426T140000
DTSTAMP:20260423T184749
CREATED:20241023T140105Z
LAST-MODIFIED:20250313T161923Z
UID:10000365-1745665200-1745676000@diabetesfoundationinc.org
SUMMARY:Spring Into Health- Capital YMCA
DESCRIPTION:Join DF at Spring Into Health! \nCome to the event for \n\nA1C Tests\nBlood Pressure Tests\nVision Tests\nHealthy Eating Education\nSocial Support Help\nFree Resources and Giveaway\n\nReasons to get your A1C: \n\nIdentify Risk\nTrack Progress\nReduce Diabetes Complications\n\nJoin in person on April 26\, 2025\, from 11:00am – 2:00pm at \nCAPITAL AREA YMCA \n431 Pennington Ave\, Trenton\, NJ 08618 \nTo volunteer for this event\, click here: Spring Into Health – Diabetes Foundation \nFor more information contact us today at (201)444-0337 or email info@diabetesfoundationinc.org
URL:https://diabetesfoundationinc.org/event/spring-into-health-capital-ymca/
CATEGORIES:Special Events
ATTACH;FMTTYPE=application/pdf:https://diabetesfoundationinc.org/wp-content/uploads/2024/10/April-26-Bootcamp-Flyer-1.pdf
END:VEVENT
END:VCALENDAR